﻿BEGIN:VCALENDAR
VERSION:2.0
PRODID:-//Hospital Nacional Hipólito Unanue - ECPv4.1.2//NONSGML v1.0//EN
CALSCALE:GREGORIAN
METHOD:PUBLISH
X-WR-CALNAME:Hospital Nacional Hipólito Unanue
X-ORIGINAL-URL:http://www.hnhu.gob.pe/Inicio
X-WR-CALDESC:Events for Hospital Nacional Hipólito Unanue
BEGIN:VEVENT
DTSTART;VALUE=DATE:20181125
DTEND;VALUE=DATE:20181125
DTSTAMP:20260420T085902
CREATED:20181009
LAST-MODIFIED:20181009
UID:7876-1543104000-1543190399@www.hnhu.gob.pe
SUMMARY:Día Internacional de la NO Violencia Contra la Mujer
DESCRIPTION:
URL:http://www.hnhu.gob.pe/Inicio/event/dia-internacional-de-la-no-violencia-contra-la-mujer/
LOCATION:Av. César Vallejo 1390\, El Agustino\, Lima\, 01\, Peru
GEO:-12.0410374;-76.9923875
X-APPLE-STRUCTURED-LOCATION;VALUE=URI;X-ADDRESS=Av. César Vallejo 1390 El Agustino Lima 01 Peru;X-APPLE-RADIUS=500;X-TITLE=Av. César Vallejo 1390:geo:-76.9923875,-12.0410374
END:VEVENT
END:VCALENDAR